BEGIN:VCALENDAR
PRODID:-//AT Content Types//AT Event//EN
VERSION:2.0
METHOD:PUBLISH
BEGIN:VEVENT
DTSTAMP:20260424T191131Z
CREATED:20140916T074101Z
UID:ATEvent-73a61adabeaa8b344e5cf474622f4dce
LAST-MODIFIED:20180801T015437Z
SUMMARY:Live Consultation
DTSTART:20141201T000000Z
DTEND:20141205T090000Z
DESCRIPTION:A live consultation will be held during the week commencin
 g 1st December 2014 where you will have an opportunity to provide your
  views using Twitter #StratChat
CLASS:PUBLIC
END:VEVENT
END:VCALENDAR
